BEGIN:VCALENDAR
VERSION:2.0
PRODID:-//Seafair - ECPv6.15.20//NONSGML v1.0//EN
CALSCALE:GREGORIAN
METHOD:PUBLISH
X-WR-CALNAME:Seafair
X-ORIGINAL-URL:https://www.seafair.org
X-WR-CALDESC:Events for Seafair
REFRESH-INTERVAL;VALUE=DURATION:PT1H
X-Robots-Tag:noindex
X-PUBLISHED-TTL:PT1H
BEGIN:VTIMEZONE
TZID:UTC
BEGIN:STANDARD
TZOFFSETFROM:+0000
TZOFFSETTO:+0000
TZNAME:UTC
DTSTART:20240101T000000
END:STANDARD
END:VTIMEZONE
BEGIN:VEVENT
DTSTART;VALUE=DATE:20250707
DTEND;VALUE=DATE:20250802
DTSTAMP:20260424T192200
CREATED:20241004T004613Z
LAST-MODIFIED:20250211T193406Z
UID:4511-1751846400-1754092799@www.seafair.org
SUMMARY:SCMS Summer Festival
DESCRIPTION:Experience the magic of chamber music like never before at Seattle Chamber Music Society’s 2025 Summer Festival—a gathering of the world’s greatest classical musicians right here in Seattle! \nWhether you’re a longtime classical music fan or brand new to chamber music\, there’s something for everyone. Enjoy 12 exhilarating mainstage concerts at Nordstrom Recital Hall\, 12 FREE pre-concert recitals\, 18 outdoor performances on The Concert Truck\, two outdoor concerts in Seattle area parks\, and a special cooking show with award-winning chef Kenji López-Alt. \nDon’t miss this chance to hear world-class artists up close in an intimate setting—join us this July for the “World’s Largest Chamber Music Party!” \nFull schedule will be released in mid-March.
URL:https://www.seafair.org/event/scms-summer-festival/
LOCATION:WA
CATEGORIES:Seafair Sanctioned Community Events
ATTACH;FMTTYPE=image/jpeg:https://www.seafair.org/wp-content/uploads/2024/10/scms-summer-festival_seafair.jpg
END:VEVENT
BEGIN:VEVENT
DTSTART;VALUE=DATE:20250726
DTEND;VALUE=DATE:20250727
DTSTAMP:20260424T192200
CREATED:20241004T013824Z
LAST-MODIFIED:20250515T161854Z
UID:4569-1753488000-1753574399@www.seafair.org
SUMMARY:Kaiser Permanente Seafair Torchlight Run
DESCRIPTION:Lace up\, light up\, and lead the way in this high-energy\, neon-filled celebration on the newly renovated Seattle waterfront. \nFor the first time since 2022\, this fan favorite will once again fill the streets of Seattle as thousands of participants lace up their sneakers and race ahead of the iconic Alaska Airlines Seafair Torchlight Parade. The race will kick off at 6:00 PM\, setting the stage for an unforgettable evening of family fun and entertainment.
URL:https://www.seafair.org/event/torchlight-run/
LOCATION:Seattle Waterfront
CATEGORIES:Seafair Signature Events
ATTACH;FMTTYPE=image/jpeg:https://www.seafair.org/wp-content/uploads/2024/10/torchlight-run_seafair-scaled-e1727980660705.jpeg
ORGANIZER;CN="Seafair":MAILTO:info@seafair.org
END:VEVENT
BEGIN:VEVENT
DTSTART;TZID=UTC:20250726T193000
DTEND;TZID=UTC:20250726T230000
DTSTAMP:20260424T192200
CREATED:20241004T011639Z
LAST-MODIFIED:20250301T230517Z
UID:4547-1753558200-1753570800@www.seafair.org
SUMMARY:Alaska Airlines Seafair Torchlight Parade
DESCRIPTION:There’s nothing like the Alaska Airlines Seafair Torchlight Parade\, and no better way to spend a summer day enjoying a Free activity suited for the family. The Torchlight Parade is where Seafair celebrates the cultural diversity and traditions of the Pacific Northwest with over 100 entries. From dragon dancers to precision drill teams or marching bands to prancing horses\, the Alaska Airlines Seafair Torchlight Parade will keep you entertained from start to finish.
URL:https://www.seafair.org/event/torchlight-parade/
LOCATION:Seattle Waterfront
CATEGORIES:Seafair Signature Events
ATTACH;FMTTYPE=image/jpeg:https://www.seafair.org/wp-content/uploads/2024/10/torchlight-parade_seafair.jpg
ORGANIZER;CN="Seafair":MAILTO:info@seafair.org
END:VEVENT
END:VCALENDAR