BEGIN:VCALENDAR
VERSION:2.0
PRODID:-//Seafair - ECPv6.15.20//NONSGML v1.0//EN
CALSCALE:GREGORIAN
METHOD:PUBLISH
X-WR-CALNAME:Seafair
X-ORIGINAL-URL:https://www.seafair.org
X-WR-CALDESC:Events for Seafair
REFRESH-INTERVAL;VALUE=DURATION:PT1H
X-Robots-Tag:noindex
X-PUBLISHED-TTL:PT1H
BEGIN:VTIMEZONE
TZID:UTC
BEGIN:STANDARD
TZOFFSETFROM:+0000
TZOFFSETTO:+0000
TZNAME:UTC
DTSTART:20240101T000000
END:STANDARD
END:VTIMEZONE
BEGIN:VEVENT
DTSTART;VALUE=DATE:20250728
DTEND;VALUE=DATE:20250802
DTSTAMP:20260419T222948
CREATED:20241004T013515Z
LAST-MODIFIED:20241004T013515Z
UID:4567-1753660800-1754092799@www.seafair.org
SUMMARY:Fleet Week
DESCRIPTION:The spectacle known as the Seattle Fleet Week returns to Seafair once again. The celebration starts with the Parade of Ships through Elliot Bay\, followed by a week of events where the public is invited to meet the sailors and guardsmen\, enjoy free music\, and take ship tours.
URL:https://www.seafair.org/event/fleet-week/
LOCATION:Seattle Waterfront
CATEGORIES:Seafair Signature Events
ATTACH;FMTTYPE=image/jpeg:https://www.seafair.org/wp-content/uploads/2024/10/fleet-week_seafair.jpg
ORGANIZER;CN="Seafair":MAILTO:info@seafair.org
END:VEVENT
BEGIN:VEVENT
DTSTART;TZID=UTC:20250801T090000
DTEND;TZID=UTC:20250803T180000
DTSTAMP:20260419T222948
CREATED:20241004T012036Z
LAST-MODIFIED:20241004T012324Z
UID:4550-1754038800-1754244000@www.seafair.org
SUMMARY:Seafair Weekend Festival
DESCRIPTION:Seafair Weekend is the largest boating event\, air show\, and festival all rolled into one. It features live music\, delicious food and beverage options\, and various family-friendly activities. Whether you’re a local or a first-time visitor\, Seafair Weekend promises to deliver an incredible experience that captures the essence of the Pacific Northwest’s vibrant culture and natural beauty.
URL:https://www.seafair.org/event/seafair-weekend-festival/
LOCATION:Genesee Park\, 4316 S Genesee St.\, Seattle\, WA\, 98118\, United States
CATEGORIES:Seafair Signature Events
ATTACH;FMTTYPE=image/jpeg:https://www.seafair.org/wp-content/uploads/2024/10/seafair-weekend-festival.jpg
ORGANIZER;CN="Seafair":MAILTO:info@seafair.org
END:VEVENT
BEGIN:VEVENT
DTSTART;TZID=UTC:20250801T090000
DTEND;TZID=UTC:20250803T180000
DTSTAMP:20260419T222948
CREATED:20241004T012236Z
LAST-MODIFIED:20250515T161954Z
UID:4553-1754038800-1754244000@www.seafair.org
SUMMARY:Boeing Seafair Air Show
DESCRIPTION:The Boeing Seafair Air Show is the ultimate thrill-seeker’s dream come true! \nGet ready to witness the most heart-stopping\, gravity-defying\, and adrenaline-pumping aerial performances ever seen.
URL:https://www.seafair.org/event/boeing-air-show/
LOCATION:Lake Washington
CATEGORIES:Seafair Signature Events
ATTACH;FMTTYPE=image/png:https://www.seafair.org/wp-content/uploads/2024/12/image-115.png
END:VEVENT
BEGIN:VEVENT
DTSTART;TZID=UTC:20250801T090000
DTEND;TZID=UTC:20250803T180000
DTSTAMP:20260419T222948
CREATED:20241004T012543Z
LAST-MODIFIED:20241004T012607Z
UID:4556-1754038800-1754244000@www.seafair.org
SUMMARY:Apollo Mechanical Cup Hydroplane Races
DESCRIPTION:Winning the Apollo Mechanical Cup is the goal of every team competing in the world’s fastest racing boats\, and there is no better place or time to host that competition than the iconic Seafair Festival Weekend.
URL:https://www.seafair.org/event/apollo-mechanical-cup-hydroplane-races/
LOCATION:Lake Washington
CATEGORIES:Seafair Signature Events
ATTACH;FMTTYPE=image/jpeg:https://www.seafair.org/wp-content/uploads/2024/10/hydroplane-races_seafair.jpg
ORGANIZER;CN="Seafair":MAILTO:info@seafair.org
END:VEVENT
END:VCALENDAR