BEGIN:VCALENDAR
VERSION:2.0
PRODID:-//Seafair - ECPv6.15.20//NONSGML v1.0//EN
CALSCALE:GREGORIAN
METHOD:PUBLISH
X-WR-CALNAME:Seafair
X-ORIGINAL-URL:https://www.seafair.org
X-WR-CALDESC:Events for Seafair
REFRESH-INTERVAL;VALUE=DURATION:PT1H
X-Robots-Tag:noindex
X-PUBLISHED-TTL:PT1H
BEGIN:VTIMEZONE
TZID:UTC
BEGIN:STANDARD
TZOFFSETFROM:+0000
TZOFFSETTO:+0000
TZNAME:UTC
DTSTART:20240101T000000
END:STANDARD
END:VTIMEZONE
BEGIN:VEVENT
DTSTART;TZID=UTC:20250620T110000
DTEND;TZID=UTC:20250620T160000
DTSTAMP:20260424T141847
CREATED:20241218T043540Z
LAST-MODIFIED:20250515T161629Z
UID:5579-1750417200-1750435200@www.seafair.org
SUMMARY:Seafair Kickoff Celebration
DESCRIPTION:The Seafair Kickoff Celebration presented by Bank of America is the official start to Seattle summer and the Seafair event season. Taking place on none other than the first day of Summer\, this event unites the city and introduces an incredible lineup of events hosted by Seafair in 2025. \nEnjoy a waterfront party featuring live music\, food trucks\, clowns\, pirates\, a live-streamed Seafair press conference\, and more!
URL:https://www.seafair.org/event/seafair-kickoff-celebration/
LOCATION:WA
CATEGORIES:Seafair Signature Events
ATTACH;FMTTYPE=image/jpeg:https://www.seafair.org/wp-content/uploads/2024/06/seafair_social-color.jpg
ORGANIZER;CN="Seafair":MAILTO:info@seafair.org
END:VEVENT
BEGIN:VEVENT
DTSTART;TZID=UTC:20250628T133000
DTEND;TZID=UTC:20250628T143000
DTSTAMP:20260424T141847
CREATED:20241004T002414Z
LAST-MODIFIED:20250626T185213Z
UID:4481-1751117400-1751121000@www.seafair.org
SUMMARY:Pirates Landing
DESCRIPTION:Mark your calendars for June 28th! The annual Seafair Pirates Landing at Alki beach is back! A tradition in Seattle for over 70 years. the Pirates will be storming the beach to steal the key to the city on Saturday\, June 28th. The pirates will land around 1:30 p.m. with festivities beforehand. Once on the beach\, the Pirates will entertain kids of all ages\, with treasures galore to share.
URL:https://www.seafair.org/event/pirates-landing/
LOCATION:Alki Beach Park\, 2701 Alki Ave SW\, Seattle\, WA\, 98116\, United States
CATEGORIES:Seafair Sanctioned Community Events
ATTACH;FMTTYPE=image/jpeg:https://www.seafair.org/wp-content/uploads/2024/10/pirates-landing.jpg
END:VEVENT
END:VCALENDAR