BEGIN:VCALENDAR
VERSION:2.0
PRODID:-//Seafair - ECPv6.15.20//NONSGML v1.0//EN
CALSCALE:GREGORIAN
METHOD:PUBLISH
X-ORIGINAL-URL:https://www.seafair.org
X-WR-CALDESC:Events for Seafair
REFRESH-INTERVAL;VALUE=DURATION:PT1H
X-Robots-Tag:noindex
X-PUBLISHED-TTL:PT1H
BEGIN:VTIMEZONE
TZID:UTC
BEGIN:STANDARD
TZOFFSETFROM:+0000
TZOFFSETTO:+0000
TZNAME:UTC
DTSTART:20240101T000000
END:STANDARD
END:VTIMEZONE
BEGIN:VTIMEZONE
TZID:America/Los_Angeles
BEGIN:DAYLIGHT
TZOFFSETFROM:-0800
TZOFFSETTO:-0700
TZNAME:PDT
DTSTART:20240310T100000
END:DAYLIGHT
BEGIN:STANDARD
TZOFFSETFROM:-0700
TZOFFSETTO:-0800
TZNAME:PST
DTSTART:20241103T090000
END:STANDARD
BEGIN:DAYLIGHT
TZOFFSETFROM:-0800
TZOFFSETTO:-0700
TZNAME:PDT
DTSTART:20250309T100000
END:DAYLIGHT
BEGIN:STANDARD
TZOFFSETFROM:-0700
TZOFFSETTO:-0800
TZNAME:PST
DTSTART:20251102T090000
END:STANDARD
BEGIN:DAYLIGHT
TZOFFSETFROM:-0800
TZOFFSETTO:-0700
TZNAME:PDT
DTSTART:20260308T100000
END:DAYLIGHT
BEGIN:STANDARD
TZOFFSETFROM:-0700
TZOFFSETTO:-0800
TZNAME:PST
DTSTART:20261101T090000
END:STANDARD
END:VTIMEZONE
BEGIN:VEVENT
DTSTART;TZID=UTC:20250704T150000
DTEND;TZID=UTC:20250704T230000
DTSTAMP:20260424T123721
CREATED:20241003T232535Z
LAST-MODIFIED:20250127T180903Z
UID:4466-1751641200-1751670000@www.seafair.org
SUMMARY:Seafair 4th of July brought to you by Amazon
DESCRIPTION:Lake Union Park provides a spectacular setting to watch the annual fireworks show with all your friends and family. \nThis setting on the south end of Lake Union features a darker sky view facing north\, creating a spectacular array of color booming across the water. \nSet up shop in our general admission area or upgrade to premium seating on the lake shore! \nWhile you’re there grab a drink from our beer garden\, get a bite from local food trucks\, delight in familiar jams from our DJ\, then settle in for a choreographed light show with timed music.
URL:https://www.seafair.org/event/4th-of-july-lake-union/
LOCATION:Lake Union Park\, 860 Terry Ave N.\, Seattle\, WA\, 98109\, United States
CATEGORIES:Seafair Signature Events
ATTACH;FMTTYPE=image/jpeg:https://www.seafair.org/wp-content/uploads/2024/10/4th-of-july_lake-union_seafair.jpg
END:VEVENT
BEGIN:VEVENT
DTSTART;TZID=UTC:20250704T150000
DTEND;TZID=UTC:20250704T230000
DTSTAMP:20260424T123721
CREATED:20241003T232858Z
LAST-MODIFIED:20250127T180854Z
UID:4468-1751641200-1751670000@www.seafair.org
SUMMARY:Seafair 4th of July brought to you by Amazon
DESCRIPTION:At the north end of Lake Union\, Gas Works Park offers a fun-filled festival atmosphere with activities for the entire family. \nGas Works Park features an elevated hilltop view of the show with a tremendous eye-level perspective. The sound stage has live music and promotions throughout the day and at night\, check out the glow-in-the-dark dance party before the blast-off ceremony. \nAnd don’t forget the food – Summer Fourth is guaranteed to have something for every palate. And if you get thirsty\, there are beer gardens\, Coca Cola drinks and water throughout the park. \n• Free and Reserved Seating Options \n• Concert Sound \n• Interactive Displays and Field Games \n• Beer Gardens \n• Food Vendors and Food Trucks \n• Bike Corral \n• Hilltop View \n• Army Howitzer Blast Off \n• Live Broadcast on KONG TV \n• Live Simulcast on HITS 106.1 \n• Free Street Parking \n• Cashless
URL:https://www.seafair.org/event/4th-of-july-gas-works-park/
LOCATION:Gas Works Park\, 2101 N Northlake Way\, Seattle\, WA\, 98103\, United States
CATEGORIES:Seafair Signature Events
ATTACH;FMTTYPE=image/jpeg:https://www.seafair.org/wp-content/uploads/2024/10/4th-of-july_gas-works-park_seafair.jpg
ORGANIZER;CN="Seafair":MAILTO:info@seafair.org
END:VEVENT
BEGIN:VEVENT
DTSTART;VALUE=DATE:20250707
DTEND;VALUE=DATE:20250802
DTSTAMP:20260424T123721
CREATED:20241004T004613Z
LAST-MODIFIED:20250211T193406Z
UID:4511-1751846400-1754092799@www.seafair.org
SUMMARY:SCMS Summer Festival
DESCRIPTION:Experience the magic of chamber music like never before at Seattle Chamber Music Society’s 2025 Summer Festival—a gathering of the world’s greatest classical musicians right here in Seattle! \nWhether you’re a longtime classical music fan or brand new to chamber music\, there’s something for everyone. Enjoy 12 exhilarating mainstage concerts at Nordstrom Recital Hall\, 12 FREE pre-concert recitals\, 18 outdoor performances on The Concert Truck\, two outdoor concerts in Seattle area parks\, and a special cooking show with award-winning chef Kenji López-Alt. \nDon’t miss this chance to hear world-class artists up close in an intimate setting—join us this July for the “World’s Largest Chamber Music Party!” \nFull schedule will be released in mid-March.
URL:https://www.seafair.org/event/scms-summer-festival/
LOCATION:WA
CATEGORIES:Seafair Sanctioned Community Events
ATTACH;FMTTYPE=image/jpeg:https://www.seafair.org/wp-content/uploads/2024/10/scms-summer-festival_seafair.jpg
END:VEVENT
BEGIN:VEVENT
DTSTART;TZID=America/Los_Angeles:20250718T110000
DTEND;TZID=America/Los_Angeles:20250718T123000
DTSTAMP:20260424T123721
CREATED:20250527T190815Z
LAST-MODIFIED:20250527T190827Z
UID:6992-1752836400-1752841800@www.seafair.org
SUMMARY:Seafair Clown Arrival
DESCRIPTION:A Seattle tradition is returning. The Seattle Seafair Clowns will be entering the Emerald City and arriving on Friday\, July 18th at 11:00am outside the Seattle Aquarium’s new Ocean Pavilion. Join the celebration as the Seattle Seafair Clowns will provide entertainment for children of all ages with stickers\, buttons\, balloons\, and candy.
URL:https://www.seafair.org/event/seafair-clown-arrival/
LOCATION:Seattle Aquarium\, 1504 Alaskan Wy\, Seattle\, WA\, 98101\, United States
CATEGORIES:Seafair Sanctioned Community Events
ATTACH;FMTTYPE=image/jpeg:https://www.seafair.org/wp-content/uploads/2025/05/Waterfrontgroup1.jpg
END:VEVENT
BEGIN:VEVENT
DTSTART;TZID=America/Los_Angeles:20250718T113000
DTEND;TZID=America/Los_Angeles:20250720T220000
DTSTAMP:20260424T123721
CREATED:20250328T065154Z
LAST-MODIFIED:20250328T065154Z
UID:6752-1752838200-1753048800@www.seafair.org
SUMMARY:Mountlake Terrace Festival
DESCRIPTION:The MLT Festival—a weekend packed with exciting events\, delicious food\, live entertainment\, and community fun! Whether you’re here for the parade\, pancake breakfast\, craft vendors\, or the Heroes vs. Villains Fun Run\, there’s something for everyone. Join us in celebrating our incredible community at Evergreen Playfield Complex located just north of Seattle!
URL:https://www.seafair.org/event/mountlake-terrace-festival/
LOCATION:Mountlake Terrace\, 22205 56th Ave W\, Mountlake Terrace\, WA\, 98043\, United States
CATEGORIES:Seafair Sanctioned Community Events
ATTACH;FMTTYPE=image/jpeg:https://www.seafair.org/wp-content/uploads/2025/03/mountlake-terrace-festival.jpg
END:VEVENT
BEGIN:VEVENT
DTSTART;TZID=America/Los_Angeles:20250718T150000
DTEND;TZID=America/Los_Angeles:20250720T170000
DTSTAMP:20260424T123721
CREATED:20250417T175147Z
LAST-MODIFIED:20250417T175348Z
UID:6892-1752850800-1753030800@www.seafair.org
SUMMARY:Kla Ha Ya Days
DESCRIPTION:Kla Ha Ya Days Festival has been a Snohomish tradition for 112 years! Come visit our picturesque northwest riverside town and experience some old town Summer fun. \nThere is sure to be something for the whole family! \nFriday July 18th-kicks off the weekend with the always free Frogtastic Kid’s fair\, where kids can be kids. (located at Averill field next to the Boys and Girls club from 3PM to &PM). \nAfter the kids have their fun it’s time for our first ever Teen Night! Teens from 12 to 18 are welcome to join the fun at the new Teen Center inside the Snohomish Boys and Girls club. Activities such as video game tournaments\, dodgeball in the gym\, and ice cream parties are just a few things happening at the Teen center. \nSaturday’s festivities start at 10am with the Kla Ha Ya days parade! Don’t forget to come early and enjoy a free pancake breakfast! Is there a better way to wait for a parade? Presented by Snohomish Chamber of commerce\, StoneAge Construction\, and Andy’s Fish house. \nDirectly after the parade come to the Carnegie lawn (on the corner of 1st street and Cedar Ave) where you can find our interactive circus performers\, epic eating contests and other activities. Across the street you’ll find the Snohomish Lion’s beverage garden and main stage. Explore the Maker’s market\, grab a bite at one of the food trucks and head back to the beverage area to relax and catch some tunes! \nFor the first time ever\, we would like to introduce the Snohomish Kid’s art exhibit inside the Carnegie Building. Art is being curated to be displayed for this weekend only. Artists will be onsite demonstrating their craft. \nSunday we wrap up the weekends events with a Historic Downtown Snohomish Hoedown!
URL:https://www.seafair.org/event/kla-ha-ya-days/
LOCATION:Snohomish\, 1st Ave\, Snohomish\, WA\, 98296\, United States
CATEGORIES:Seafair Sanctioned Community Events
ATTACH;FMTTYPE=image/jpeg:https://www.seafair.org/wp-content/uploads/2025/04/kla-ha-ya-days.jpg
END:VEVENT
BEGIN:VEVENT
DTSTART;TZID=UTC:20250719T100000
DTEND;TZID=UTC:20250720T180000
DTSTAMP:20260424T123721
CREATED:20241004T011056Z
LAST-MODIFIED:20250328T061327Z
UID:4541-1752919200-1753034400@www.seafair.org
SUMMARY:Covington Days Festival
DESCRIPTION:Covington Days has been a staple in the community since 1986. The festival is always the third weekend in July! It’s focus is on providing family fun while promoting community spirit. The festival kicks off on Saturday with the parade at 10 a.m. Afterwards\, the festival grounds come alive with arts and crafters\, exhibitors\, kid and family activities\, on stage entertainment\, inflatable toys\, watermelon eating contest and much more!
URL:https://www.seafair.org/event/covington-days-festival/
LOCATION:Valley Medical North\, 169th Place SE/SE 270th Place
CATEGORIES:Seafair Sanctioned Community Events
ATTACH;FMTTYPE=image/jpeg:https://www.seafair.org/wp-content/uploads/2024/10/covington-days.jpg
END:VEVENT
BEGIN:VEVENT
DTSTART;TZID=UTC:20250720T070000
DTEND;TZID=UTC:20250720T120000
DTSTAMP:20260424T123721
CREATED:20241004T014128Z
LAST-MODIFIED:20250515T162440Z
UID:4571-1752994800-1753012800@www.seafair.org
SUMMARY:Seafair Triathlon
DESCRIPTION:The 2025 Seafair Triathlon will once again call Seward Park home on July 20th! \nWe are SO excited to host over 1\,500 triathletes at Seward Park this year. Seattle’s ONLY Triathlon will once again take over the shores of Lake Washington this summer and Seward Park is the perfect backdrop for this flat\, fast and picturesque triathlon course in the shadows of Downtown Seattle. \nWhether you’ve completed a triathlon before or told yourself one day you might\, this is your year and this is your triathlon. Featuring small wave sizes\, multiple distance options\, and team relay competitions\, the Seafair Triathlon prides itself on hosting a range of participants from elite level triathletes to beginners getting their first taste of triathlon competition.
URL:https://www.seafair.org/event/seafair-triathlon/
LOCATION:Seward Park\, 5900 Lake Washington Blvd S\, Seattle\, WA\, 98118\, United States
CATEGORIES:Seafair Signature Events
ATTACH;FMTTYPE=image/jpeg:https://www.seafair.org/wp-content/uploads/2024/10/seafair-triathlon_seafair.jpg
ORGANIZER;CN="Seafair":MAILTO:info@seafair.org
END:VEVENT
BEGIN:VEVENT
DTSTART;VALUE=DATE:20250726
DTEND;VALUE=DATE:20250727
DTSTAMP:20260424T123721
CREATED:20241004T013824Z
LAST-MODIFIED:20250515T161854Z
UID:4569-1753488000-1753574399@www.seafair.org
SUMMARY:Kaiser Permanente Seafair Torchlight Run
DESCRIPTION:Lace up\, light up\, and lead the way in this high-energy\, neon-filled celebration on the newly renovated Seattle waterfront. \nFor the first time since 2022\, this fan favorite will once again fill the streets of Seattle as thousands of participants lace up their sneakers and race ahead of the iconic Alaska Airlines Seafair Torchlight Parade. The race will kick off at 6:00 PM\, setting the stage for an unforgettable evening of family fun and entertainment.
URL:https://www.seafair.org/event/torchlight-run/
LOCATION:Seattle Waterfront
CATEGORIES:Seafair Signature Events
ATTACH;FMTTYPE=image/jpeg:https://www.seafair.org/wp-content/uploads/2024/10/torchlight-run_seafair-scaled-e1727980660705.jpeg
ORGANIZER;CN="Seafair":MAILTO:info@seafair.org
END:VEVENT
BEGIN:VEVENT
DTSTART;TZID=UTC:20250726T193000
DTEND;TZID=UTC:20250726T230000
DTSTAMP:20260424T123721
CREATED:20241004T011639Z
LAST-MODIFIED:20250301T230517Z
UID:4547-1753558200-1753570800@www.seafair.org
SUMMARY:Alaska Airlines Seafair Torchlight Parade
DESCRIPTION:There’s nothing like the Alaska Airlines Seafair Torchlight Parade\, and no better way to spend a summer day enjoying a Free activity suited for the family. The Torchlight Parade is where Seafair celebrates the cultural diversity and traditions of the Pacific Northwest with over 100 entries. From dragon dancers to precision drill teams or marching bands to prancing horses\, the Alaska Airlines Seafair Torchlight Parade will keep you entertained from start to finish.
URL:https://www.seafair.org/event/torchlight-parade/
LOCATION:Seattle Waterfront
CATEGORIES:Seafair Signature Events
ATTACH;FMTTYPE=image/jpeg:https://www.seafair.org/wp-content/uploads/2024/10/torchlight-parade_seafair.jpg
ORGANIZER;CN="Seafair":MAILTO:info@seafair.org
END:VEVENT
BEGIN:VEVENT
DTSTART;VALUE=DATE:20250728
DTEND;VALUE=DATE:20250802
DTSTAMP:20260424T123721
CREATED:20241004T013515Z
LAST-MODIFIED:20241004T013515Z
UID:4567-1753660800-1754092799@www.seafair.org
SUMMARY:Fleet Week
DESCRIPTION:The spectacle known as the Seattle Fleet Week returns to Seafair once again. The celebration starts with the Parade of Ships through Elliot Bay\, followed by a week of events where the public is invited to meet the sailors and guardsmen\, enjoy free music\, and take ship tours.
URL:https://www.seafair.org/event/fleet-week/
LOCATION:Seattle Waterfront
CATEGORIES:Seafair Signature Events
ATTACH;FMTTYPE=image/jpeg:https://www.seafair.org/wp-content/uploads/2024/10/fleet-week_seafair.jpg
ORGANIZER;CN="Seafair":MAILTO:info@seafair.org
END:VEVENT
END:VCALENDAR