BEGIN:VCALENDAR
VERSION:2.0
PRODID:-//Seafair - ECPv6.15.20//NONSGML v1.0//EN
CALSCALE:GREGORIAN
METHOD:PUBLISH
X-WR-CALNAME:Seafair
X-ORIGINAL-URL:https://www.seafair.org
X-WR-CALDESC:Events for Seafair
REFRESH-INTERVAL;VALUE=DURATION:PT1H
X-Robots-Tag:noindex
X-PUBLISHED-TTL:PT1H
BEGIN:VTIMEZONE
TZID:UTC
BEGIN:STANDARD
TZOFFSETFROM:+0000
TZOFFSETTO:+0000
TZNAME:UTC
DTSTART:20230101T000000
END:STANDARD
END:VTIMEZONE
BEGIN:VEVENT
DTSTART;TZID=UTC:20240817T120000
DTEND;TZID=UTC:20240817T210000
DTSTAMP:20260425T145230
CREATED:20241004T005805Z
LAST-MODIFIED:20241004T005805Z
UID:4525-1723896000-1723928400@www.seafair.org
SUMMARY:Celebrate Shoreline
DESCRIPTION:Celebrate Shoreline is the City’s annual birthday celebration! The festival has multiple stages with live music and shows\, a beer garden\, pony rides\, children’s theater\, food\, toy workshop\, hands on activities and more!
URL:https://www.seafair.org/event/celebrate-shoreline/
LOCATION:Cromwell Park\, 18030 Meridian Ave N.\, Shoreline\, WA\, 87133\, United States
CATEGORIES:Seafair Sanctioned Community Events
ATTACH;FMTTYPE=image/jpeg:https://www.seafair.org/wp-content/uploads/2024/10/celebrate-shoreline_seafair.jpg
END:VEVENT
END:VCALENDAR