BEGIN:VCALENDAR
VERSION:2.0
PRODID:-//Seafair - ECPv6.15.20//NONSGML v1.0//EN
CALSCALE:GREGORIAN
METHOD:PUBLISH
X-ORIGINAL-URL:https://www.seafair.org
X-WR-CALDESC:Events for Seafair
REFRESH-INTERVAL;VALUE=DURATION:PT1H
X-Robots-Tag:noindex
X-PUBLISHED-TTL:PT1H
BEGIN:VTIMEZONE
TZID:America/Los_Angeles
BEGIN:DAYLIGHT
TZOFFSETFROM:-0800
TZOFFSETTO:-0700
TZNAME:PDT
DTSTART:20250309T100000
END:DAYLIGHT
BEGIN:STANDARD
TZOFFSETFROM:-0700
TZOFFSETTO:-0800
TZNAME:PST
DTSTART:20251102T090000
END:STANDARD
BEGIN:DAYLIGHT
TZOFFSETFROM:-0800
TZOFFSETTO:-0700
TZNAME:PDT
DTSTART:20260308T100000
END:DAYLIGHT
BEGIN:STANDARD
TZOFFSETFROM:-0700
TZOFFSETTO:-0800
TZNAME:PST
DTSTART:20261101T090000
END:STANDARD
BEGIN:DAYLIGHT
TZOFFSETFROM:-0800
TZOFFSETTO:-0700
TZNAME:PDT
DTSTART:20270314T100000
END:DAYLIGHT
BEGIN:STANDARD
TZOFFSETFROM:-0700
TZOFFSETTO:-0800
TZNAME:PST
DTSTART:20271107T090000
END:STANDARD
END:VTIMEZONE
BEGIN:VTIMEZONE
TZID:UTC
BEGIN:STANDARD
TZOFFSETFROM:+0000
TZOFFSETTO:+0000
TZNAME:UTC
DTSTART:20250101T000000
END:STANDARD
END:VTIMEZONE
BEGIN:VEVENT
DTSTART;TZID=America/Los_Angeles:20260516T090000
DTEND;TZID=America/Los_Angeles:20260516T120000
DTSTAMP:20260425T072057
CREATED:20260327T173356Z
LAST-MODIFIED:20260327T173356Z
UID:8774-1778922000-1778932800@www.seafair.org
SUMMARY:ACRS: Walk for Rice
DESCRIPTION:Walk for Rice bring communities together to support the ACRS Food Bank in Seattle’s Chinatown-International District and raise awareness about food insecurity in Asian and Native Hawaiian/Pacific Islander communities. \nEach year\, the food bank distributes nearly one million pounds of food\, including culturally familiar staples like rice\, tofu\, and fresh produce\, to about 5\,000 families and people across King County.
URL:https://www.seafair.org/event/acrs-walk-for-rice/
LOCATION:Seward Park\, 5900 Lake Washington Blvd S\, Seattle\, WA\, 98118\, United States
CATEGORIES:Seafair Sanctioned Community Events
ATTACH;FMTTYPE=image/jpeg:https://www.seafair.org/wp-content/uploads/2026/03/acrs-walk-for-rice-scaled.jpg
END:VEVENT
BEGIN:VEVENT
DTSTART;TZID=UTC:20260717T140000
DTEND;TZID=UTC:20260719T180000
DTSTAMP:20260425T072057
CREATED:20241004T010625Z
LAST-MODIFIED:20260324T235427Z
UID:4537-1784296800-1784484000@www.seafair.org
SUMMARY:Alki Art Fair
DESCRIPTION:Now in its 29th year—this FREE\, family-friendly\, annual arts and music festival brings Alki to life with over 100 professional artists\, craftspeople and emerging artists. There will be live music\, children’s activities\, live demonstrations and local artisan food vendors for everyone to enjoy. Visitors can take in the colorful views while strolling the promenade\, as they eat and shop among the expansive lineup of artists\, makers and performers. It’s a great opportunity to engage with the local creative community and celebrate the vibrancy and diversity of our local arts and culture.
URL:https://www.seafair.org/event/alki-art-fair/
LOCATION:Alki Beach Park\, 2701 Alki Ave SW\, Seattle\, WA\, 98116\, United States
CATEGORIES:Seafair Sanctioned Community Events
ATTACH;FMTTYPE=image/jpeg:https://www.seafair.org/wp-content/uploads/2024/10/alki-art-fair-1-scaled.jpg
END:VEVENT
BEGIN:VEVENT
DTSTART;TZID=America/Los_Angeles:20260801T100000
DTEND;TZID=America/Los_Angeles:20260801T140000
DTSTAMP:20260425T072057
CREATED:20260327T174326Z
LAST-MODIFIED:20260327T174326Z
UID:8777-1785578400-1785592800@www.seafair.org
SUMMARY:Champions of Change Celebrity Pickleball Tournament
DESCRIPTION:40 team slots with celebrity captains\, spectator passes\, beer garden\, food truck rodeo\, and Meet & Greets.
URL:https://www.seafair.org/event/champions-of-change-celebrity-pickleball-tournament/
LOCATION:SideOut Tsunami Pickleball Center\, 2300 26th Ave S\, Seattle\, WA\, 98144\, United States
CATEGORIES:Seafair Sanctioned Community Events
ATTACH;FMTTYPE=image/jpeg:https://www.seafair.org/wp-content/uploads/2026/03/champions-of-change.jpg
END:VEVENT
BEGIN:VEVENT
DTSTART;TZID=UTC:20260801T103000
DTEND;TZID=UTC:20260801T213000
DTSTAMP:20260425T072057
CREATED:20241004T003435Z
LAST-MODIFIED:20260324T232031Z
UID:4493-1785580200-1785619800@www.seafair.org
SUMMARY:Lake City Summer Festival and Parade
DESCRIPTION:NORTHEAST SEATTLE’S FAVORITE TRADITION SINCE 1947! \nFREE AND FUN FOR EVERYONE! \nOn NE 125th St between 25th Ave NE and Lake City Way NE\, NE 28th Ave\, and Albert Davis Park. \nFood trucks\, Craft artisans\, community service organizations\, a massive Family Fun Zone activities and performances\, Car Show\, Touch-a-Truck\, and The Grandstand Stage featuring music all day. In the evening\, three Parades on Lake City Way NE crown the night. \nKids Parade at 6pm starts at 130th & LCW\nDog Parade at 6:30pm starts at Hellbent Brewing\nSeafair Grand Parade at 7pm starts at 135th & LCW \nParades head south and make a right on 125th St past The Grandstand Stage
URL:https://www.seafair.org/event/lake-city-summerfest/
LOCATION:Lake City\, 125th NE and along Lake City Way NE\, and at Albert Davis Park
CATEGORIES:Seafair Sanctioned Community Events
ATTACH;FMTTYPE=image/jpeg:https://www.seafair.org/wp-content/uploads/2024/10/lake-city-summer-fest.jpg
END:VEVENT
BEGIN:VEVENT
DTSTART;TZID=UTC:20260801T120000
DTEND;TZID=UTC:20260802T190000
DTSTAMP:20260425T072057
CREATED:20241004T005105Z
LAST-MODIFIED:20260324T235200Z
UID:4516-1785585600-1785697200@www.seafair.org
SUMMARY:Umoja Fest
DESCRIPTION:Umoja Fest 2026 and Africatown Heritage Parade span for more than eight decades as an annual celebration and tradition in the heart of Seattle’s Central District located at Judkin’s Park. \nThis artistic and cultural extravaganza uniquely touches the spirit of the African American Community and has historically been one of the most unifying and anticipated events for summer in Seattle. \nThe Festival brings people of all ethnic backgrounds together for a celebration of music\, economic empowerment\, culture\, education\, social festivities and networking. The event highlights activities such as popular Africatown Heritage Parade\, Soul in the City Stage\, Afrobeats/Vibez Stage\, Children’s/Teens Village\, Community Resource Fair\, Fitness and Wellness Circle\, The Best of Both Worlds Fashion Show\, Vendor and Food Marketplace and the VR Tech Lounge. \nUmoja Fest is a cultural festival that celebrates Art and Culture and the countless contributions of African-Americans in the Community. \nThe celebration gives people for all over the Pacific Northwest an opportunity to experience rich African heritage and culture from all over the world. We invite you to come and experience all the fun\, creativity and joy of this annual Family Reunion\, making lasting memories for years to come!
URL:https://www.seafair.org/event/umoja-fest/
LOCATION:Judkins Park\, 2150 S Norman St.\, Seattle\, WA\, 98144\, United States
CATEGORIES:Seafair Sanctioned Community Events
ATTACH;FMTTYPE=image/jpeg:https://www.seafair.org/wp-content/uploads/2024/10/umoja-fest.jpeg
END:VEVENT
END:VCALENDAR